BEGIN:VCALENDAR
CALSCALE:GREGORIAN
VERSION:2.0
X-WR-CALNAME:Anelde en Gerhard Troue
METHOD:PUBLISH
PRODID:-//Apple Inc.//macOS 14.1.1//EN
BEGIN:VEVENT
CREATED:20240115T140803Z
DTEND;VALUE=DATE:20240915
TRANSP:TRANSPARENT
UID:74FD5890-6C03-43E2-9333-53B20704E912
X-APPLE-CREATOR-IDENTITY:com.apple.calendar
X-APPLE-CREATOR-TEAM-IDENTITY:0000000000
SUMMARY:Anelde en Gerhard Troue
DTSTART;VALUE=DATE:20240914
DTSTAMP:20240115T140807Z
LAST-MODIFIED:20240115T140803Z
SEQUENCE:0
BEGIN:VALARM
UID:55AF4AE2-59C2-40DF-A4E4-84E29B169524
X-APPLE-DEFAULT-ALARM:TRUE
TRIGGER:-PT15H
DESCRIPTION:Reminder
X-WR-ALARMUID:55AF4AE2-59C2-40DF-A4E4-84E29B169524
ACTION:DISPLAY
END:VALARM
END:VEVENT
END:VCALENDAR
